BEGIN:VCALENDAR
VERSION:2.0
PRODID:-//ChamberMaster//Event Calendar 2.0//EN
METHOD:PUBLISH
X-PUBLISHED-TTL:P3D
REFRESH-INTERVAL:P3D
CALSCALE:GREGORIAN
BEGIN:VEVENT
DTSTART:20040413T213000Z
DTEND:20040413T233000Z
X-MICROSOFT-CDO-ALLDAYEVENT:FALSE
SUMMARY:April Mixer
DESCRIPTION:
X-ALT-DESC;FMTTYPE=text/html:
LOCATION:Vivid
UID:e.1455.5
SEQUENCE:3
DTSTAMP:20260420T023748Z
URL:https://dev.palmbeaches.org/events/details/april-mixer-04-13-2004-5
END:VEVENT

END:VCALENDAR
