BEGIN:VCALENDAR
VERSION:2.0
PRODID:-//ChamberMaster//Event Calendar 2.0//EN
METHOD:PUBLISH
X-PUBLISHED-TTL:P3D
REFRESH-INTERVAL:P3D
CALSCALE:GREGORIAN
BEGIN:VEVENT
DTSTART:20260624T153000Z
DTEND:20260624T170000Z
X-MICROSOFT-CDO-ALLDAYEVENT:FALSE
SUMMARY:Black Leadership Luncheon
DESCRIPTION:Join us for the Black Leadership Luncheon at The Chamber of Commerce of the Palm Beaches.\n\nThis curated gathering brings together Black leaders in business from across Palm Beach County for meaningful connection\, thoughtful conversation\, and real opportunity. Designed as an intimate\, high-value experience\, this luncheon creates space to engage with peers\, exchange ideas\, and build relationships that support continued business growth and leadership.\n\nOur program will feature a special conversation with West Palm Beach Mayor Keith James\, who will share insights on leadership\, economic development\, and the future of our community.\n\nThis is not a traditional networking event. It is a focused leadership forum built to strengthen connections\, elevate voices\, and expand opportunity within Palm Beach County's business community.\n\nPlease Note: This luncheon is at capacity.\n\nWe look forward to continuing this series and invite you to join us at the next Black Leadership Luncheon in August. Reserve your seat here:\n\nhttps://business.palmbeaches.org/events/details/black-leadership-luncheon-46455\n\nSchedule:\n\n11:30 AM   12:00 PM | Networking\n\n12:00 PM   1:00 PM | Program\n\nLunch will be provided.\n\n\n\nWe are proud to have a strong host committee helping lead this effort\, including Grasford Smith\, Katrina Long-Robinson\, and Telsula Morgan\, whose leadership continues to shape and strengthen Palm Beach County's business community.\n\n\n\nEvent Registration Policy:\n\nAll registrations are final and non-refundable. If you are unable to attend\, your registration may be transferred to a colleague from your organization with at least 24 hours' notice by contacting nnocero@palmbeaches.org.\n\nYour registration supports the ongoing work of The Chamber of Commerce of the Palm Beaches in strengthening our business community.
X-ALT-DESC;FMTTYPE=text/html:<p data-end="288" data-start="189">Join us for the Black Leadership Luncheon at The Chamber of Commerce of the Palm Beaches.</p>\n\n<p data-end="651" data-start="290">This curated gathering brings together Black leaders in business from across Palm Beach County for meaningful connection\, thoughtful conversation\, and real opportunity. Designed as an intimate\, high-value experience\, this luncheon creates space to engage with peers\, exchange ideas\, and build relationships that support continued business growth and leadership.</p>\n\n<p data-end="843" data-start="653">Our program will feature a special conversation with West Palm Beach Mayor Keith&nbsp\;James\, who will share insights on leadership\, economic development\, and the future of our community.</p>\n\n<p data-end="1040" data-start="845">This is not a traditional networking event. It is a focused leadership forum built to strengthen connections\, elevate voices\, and expand opportunity within Palm Beach County&rsquo\;s business community.</p>\n\n<p data-end="1040" data-start="845"><strong>Please Note: </strong>This luncheon is at capacity.<br />\nWe look forward to continuing this series and invite you to join us at the next Black Leadership Luncheon in August. Reserve your seat here:<br data-end="817" data-start="814" />\n<a class="decorated-link" data-end="896" data-start="817" href="https://business.palmbeaches.org/events/details/black-leadership-luncheon-46455" rel="noopener" target="_new"><span style="color:#0000FF\;">https://business.palmbeaches.org/events/details/black-leadership-luncheon-46455</span></a></p>\n\n<p data-end="1123" data-start="1042"><strong data-end="1055" data-start="1042">Schedule:</strong><br data-end="1058" data-start="1055" />\n11:30 AM &ndash\; 12:00 PM | Networking<br data-end="1093" data-start="1090" />\n12:00 PM &ndash\; 1:00 PM | Program</p>\n\n<p data-end="1148" data-start="1125">Lunch will be provided.<br />\n<br />\nWe are proud to have a strong host committee helping lead this effort\, including Grasford Smith\, Katrina Long-Robinson\, and Telsula Morgan\, whose leadership continues to shape and strengthen Palm Beach County&rsquo\;s business community.<br />\n<br />\nEvent Registration Policy:<br />\nAll registrations are final and non-refundable. If you are unable to attend\, your registration may be transferred to a colleague from your organization with at least 24 hours&rsquo\; notice by contacting nnocero@palmbeaches.org.<br />\nYour registration supports the ongoing work of The Chamber of Commerce of the Palm Beaches in strengthening our business community.</p>\n
LOCATION:The Chamber 401 N Flagler Dr. West Palm Beach\, FL 33401
UID:e.1455.46454
SEQUENCE:3
DTSTAMP:20260420T110104Z
URL:https://dev.palmbeaches.org/events/details/black-leadership-luncheon-46454
END:VEVENT

END:VCALENDAR
