BEGIN:VCALENDAR
VERSION:2.0
PRODID:-//ChamberMaster//Event Calendar 2.0//EN
METHOD:PUBLISH
X-PUBLISHED-TTL:P3D
REFRESH-INTERVAL:P3D
CALSCALE:GREGORIAN
BEGIN:VEVENT
DTSTART:20260511T160000Z
DTEND:20260511T170000Z
X-MICROSOFT-CDO-ALLDAYEVENT:FALSE
SUMMARY:Golding Signature Cleaning Ribbon Cutting
DESCRIPTION:You're invited!\n\nJoin us as we celebrate the ribbon cutting for Golding Signature Cleaning. We are dedicated to providing Signature detail cleaning services with consistent signature standard where every space is not just cleaned\, but perfected.\n\nCome network\, enjoy light refreshments and be part of this exciting milestone as we officially launch and grow within the community. \n\nWe are honored to have your presence as we open our doors.\n\nKindly reserve at petrice@thegoldingagency.com/646764-6839\n\nWe look forward to celebrating with you!!
X-ALT-DESC;FMTTYPE=text/html:You&#39\;re invited!<br />\nJoin us as we celebrate the ribbon cutting for Golding Signature Cleaning. We are dedicated to providing Signature detail cleaning services with consistent signature standard where every space is not just cleaned\, but perfected.<br />\nCome network\, enjoy light refreshments and be part of this exciting milestone as we officially launch and grow within the community.&nbsp\;<br />\nWe are honored to have your presence as we open our doors.<br />\nKindly reserve at petrice@thegoldingagency.com/646764-6839<br />\nWe look forward to celebrating with you!!<br />\n<br />\n&nbsp\;
LOCATION:Chamber of Commerce 401 N Flagler Dr\, West Palm Beach\, Fl 33401
UID:e.1455.46481
SEQUENCE:3
DTSTAMP:20260422T215251Z
URL:https://dev.palmbeaches.org/events/details/golding-signature-cleaning-ribbon-cutting-46481
END:VEVENT

END:VCALENDAR
