BEGIN:VCALENDAR
VERSION:2.0
PRODID:-//ChamberMaster//Event Calendar 2.0//EN
METHOD:PUBLISH
X-PUBLISHED-TTL:P3D
REFRESH-INTERVAL:P3D
CALSCALE:GREGORIAN
BEGIN:VEVENT
DTSTART:20031112T223000Z
DTEND:20031113T003000Z
X-MICROSOFT-CDO-ALLDAYEVENT:FALSE
SUMMARY:NOVEMBER AH Mixer at Hooters
DESCRIPTION:
X-ALT-DESC;FMTTYPE=text/html:
LOCATION:Hooters
UID:e.1455.3
SEQUENCE:3
DTSTAMP:20260420T112633Z
URL:https://dev.palmbeaches.org/events/details/november-ah-mixer-at-hooters-11-12-2003-3
END:VEVENT

END:VCALENDAR
