BEGIN:VCALENDAR
VERSION:2.0
PRODID:-//ChamberMaster//Event Calendar 2.0//EN
METHOD:PUBLISH
X-PUBLISHED-TTL:P3D
REFRESH-INTERVAL:P3D
CALSCALE:GREGORIAN
BEGIN:VEVENT
DTSTART:20260610T200000Z
DTEND:20260610T220000Z
X-MICROSOFT-CDO-ALLDAYEVENT:FALSE
SUMMARY:The Chamber Workplace Experience Unveiling & Ribbon Cutting
DESCRIPTION:Join us for a special evening at The Chamber as we unveil our newly updated workspace.\n\nIn partnership with Pradere Designer Workspaces\, we've refreshed our conference rooms\, lounge\, and offices to create a more functional and welcoming environment for our members. This marks the introduction of The Chamber Workplace Experience.\n\nCome connect with fellow business leaders\, explore the space\, and see the updates firsthand.\n\nAt 5:00 PM\, we will mark the occasion with a ribbon cutting.\n\nWe look forward to welcoming you.
X-ALT-DESC;FMTTYPE=text/html:<p data-end="358" data-start="272">Join us for a special evening at The Chamber as we unveil our newly updated workspace.</p>\n\n<p data-end="602" data-start="360">In partnership with Pradere Designer Workspaces\, we&rsquo\;ve refreshed our conference rooms\, lounge\, and offices to create a more functional and welcoming environment for our members. This marks the introduction of The Chamber Workplace Experience.</p>\n\n<p data-end="696" data-start="604">Come connect with fellow business leaders\, explore the space\, and see the updates firsthand.</p>\n\n<p data-end="758" data-start="698">At 5:00 PM\, we will mark the occasion with a ribbon cutting.</p>\n\n<p data-end="793" data-start="760">We look forward to welcoming you.</p>\n
LOCATION:The Chamber 401 N Flagler Dr. West Palm Beach\, FL 33401
UID:e.1455.46566
SEQUENCE:3
DTSTAMP:20260426T014702Z
URL:https://dev.palmbeaches.org/events/details/the-chamber-workplace-experience-unveiling-ribbon-cutting-46566
END:VEVENT

END:VCALENDAR
